BEGIN:VCALENDAR
VERSION:2.0
PRODID:-//The Tide - ECPv6.15.20//NONSGML v1.0//EN
CALSCALE:GREGORIAN
METHOD:PUBLISH
X-WR-CALNAME:The Tide
X-ORIGINAL-URL:https://www.thetide.org
X-WR-CALDESC:Events for The Tide
REFRESH-INTERVAL;VALUE=DURATION:PT1H
X-Robots-Tag:noindex
X-PUBLISHED-TTL:PT1H
BEGIN:VTIMEZONE
TZID:America/New_York
BEGIN:DAYLIGHT
TZOFFSETFROM:-0500
TZOFFSETTO:-0400
TZNAME:EDT
DTSTART:20200308T070000
END:DAYLIGHT
BEGIN:STANDARD
TZOFFSETFROM:-0400
TZOFFSETTO:-0500
TZNAME:EST
DTSTART:20201101T060000
END:STANDARD
BEGIN:DAYLIGHT
TZOFFSETFROM:-0500
TZOFFSETTO:-0400
TZNAME:EDT
DTSTART:20210314T070000
END:DAYLIGHT
BEGIN:STANDARD
TZOFFSETFROM:-0400
TZOFFSETTO:-0500
TZNAME:EST
DTSTART:20211107T060000
END:STANDARD
BEGIN:DAYLIGHT
TZOFFSETFROM:-0500
TZOFFSETTO:-0400
TZNAME:EDT
DTSTART:20220313T070000
END:DAYLIGHT
BEGIN:STANDARD
TZOFFSETFROM:-0400
TZOFFSETTO:-0500
TZNAME:EST
DTSTART:20221106T060000
END:STANDARD
END:VTIMEZONE
BEGIN:VEVENT
DTSTART;TZID=America/New_York:20210827T080000
DTEND;TZID=America/New_York:20210827T140000
DTSTAMP:20260422T105225
CREATED:20210506T213518Z
LAST-MODIFIED:20250428T200935Z
UID:865-1630051200-1630072800@www.thetide.org
SUMMARY:7th Annual Fall Golf Benefit
DESCRIPTION:The Tide® Annual Golf Benefit provides a great way to make a global impact for Christ while also participating in a pleasurable hobby. This year our outing will take place on August 27. \n\n\n\nThis will be the 7th consecutive year for The Tide international radio ministry to host this event\, and the 3rd year at Range End Golf Club in Dillsburg\, Pennsylvania. Over the years\, The Tide Annual Golf Benefit has earned the reputation as a great event that is popular among golfers of all ages and skill levels. A few hours of golf for you can help provide eternal hope for others! \n\n\n\nThis benefit will be a scramble and will kick off with a shotgun start at 8:00 AM. The cost per golfer is $85 if registered before July 26 or $90 if registered after. The cost covers the green fees for 18 holes of golf and a golf cart. Complimentary refreshments will be available at various locations around the course and a free picnic lunch will also be provided. Please note: this opportunity is only available to the first 128 people to register. \n\n\n\nAll golfers who participate will also be entered in a drawing for a variety of door prizes\, including drivers\, irons\, golf bags\, pushcarts\, a GPS unit\, and more! On designated holes\, individuals will also be able to compete for prizes for the longest drive\, longest putt\, and closest to the pin. In addition\, a $10\,000 hole-in-one prize is being offered on the ninth hole. \n\n\n\n\nRegister or Sponsor Here
URL:https://www.thetide.org/event/fallgolf/
ATTACH;FMTTYPE=image/jpeg:https://www.thetide.org/wp-content/uploads/2025/04/pexels-jopwell-1325682.jpg
END:VEVENT
BEGIN:VEVENT
DTSTART;TZID=America/New_York:20210617T080000
DTEND;TZID=America/New_York:20210617T150000
DTSTAMP:20260422T105225
CREATED:20210226T012002Z
LAST-MODIFIED:20250428T200937Z
UID:863-1623916800-1623942000@www.thetide.org
SUMMARY:43rd Annual Spring Golf Benefit *SOLD OUT*
DESCRIPTION:The Tide® Annual Golf Benefit provides a great way to make a global impact for Christ while also participating in a pleasurable hobby. This year our outing will take place on June 17. \n\n\n\nThis will be the 43rd consecutive year for The Tide international radio ministry to host this event at the Penn National Golf Club in Fayetteville\, Pennsylvania. Over the years\, The Tide Annual Golf Benefit has earned the reputation as a great event that is popular among golfers of all ages and skill levels. A few hours of golf for you can help provide eternal hope for others! \n\n\n\nThis benefit will be a scramble and will kick off with a shotgun start at 8:00 AM on the Founder’s course. The cost per golfer is $85 if registered before May 27 or $90 if registered after. The cost covers the green fees for 18 holes of golf and a golf cart. Complimentary refreshments will be available at various locations around the course and a free picnic lunch will also be provided. Please note: this opportunity is only available to the first 128 people to register. \n\n\n\nAll golfers who participate will also be entered in a drawing for a variety of door prizes\, including drivers\, irons\, golf bags\, pushcarts\, a GPS unit\, and more! On designated holes\, individuals will also be able to compete for prizes for the longest drive\, longest putt\, and closest to the pin. In addition\, a $10\,000 hole-in-one prize is being offered on the ninth hole. \n\n\n\n\nREGISTER HERE\n\n\n\n\nIf you are looking to sponsor our benefit\, details and form can be found here.
URL:https://www.thetide.org/event/43rd-annual-spring-golf-benefit/
ATTACH;FMTTYPE=image/jpeg:https://www.thetide.org/wp-content/uploads/2025/04/00207527-scaled-1.jpg
END:VEVENT
END:VCALENDAR